BEGIN:VCALENDAR
VERSION:2.0
PRODID:-//Tukios.com/
BEGIN:VEVENT
UID:e74e69c8-23a9-4931-bf10-065e14dfc3f9@www.wagner-elfner-burg.com
DTSTAMP:20260426T003634Z
DTSTART:20260502T150000Z
DTEND:20260502T160000Z
SUMMARY:Celebration of Life
DESCRIPTION:
URL:https://www.wagner-elfner-burg.com/obituaries/betty-fleegle
LOCATION:Red Lion Bible Church 105 Springvale Road  Red Lion PA 17356
GEO:39.8910426;-76.5926471
END:VEVENT
END:VCALENDAR