BEGIN:VCALENDAR
VERSION:2.0
PRODID:-//Tukios.com/
BEGIN:VEVENT
UID:ba29b63b-ca51-4f77-9f1d-2a91cb66f01a@www.wagner-elfner-burg.com
DTSTAMP:20260426T004049Z
DTSTART:20260504T180000Z
DTEND:20260504T190000Z
SUMMARY:Interment
DESCRIPTION:
URL:https://www.wagner-elfner-burg.com/obituaries/betty-fleegle
LOCATION:Susquehanna Memorial Gardens 250 CHESTNUT HILL ROAD  York PA 
	17402
GEO:39.9187443;-76.6549883
END:VEVENT
END:VCALENDAR